View In:
ArcGIS JavaScript
ArcGIS Online Map Viewer
ArcGIS Earth
ArcMap
ArcGIS Pro
View Footprint In:
ArcGIS Online Map Viewer
Service Description: Planet Team (2023). Planet Application Program Interface: In Space for Life on Earth. San Francisco, CA. https://api.planet.com.
Map Name: Planet_03_2023
Legend
All Layers and Tables
Dynamic Legend
Dynamic All Layers
Layers:
Description: Planet Team (2023). Planet Application Program Interface: In Space for Life on Earth. San Francisco, CA. https://api.planet.com.
Service Item Id: 1d839c22c2c948cc942044eb053b631b
Copyright Text: Planet Team (2023)
Spatial Reference:
102100
(3857)
LatestVCSWkid(0)
Single Fused Map Cache: true
Tile Info:
- Height: 256.0
- Width: 256.0
- DPI: 96.0
-
Levels of Detail: 20
-
Level ID: 1
[ Start Tile, End Tile ]
- Resolution: 78271.5169639999
- Scale: 2.95828763795777E8
-
Level ID: 2
[ Start Tile, End Tile ]
- Resolution: 39135.7584820001
- Scale: 1.47914381897889E8
-
Level ID: 3
[ Start Tile, End Tile ]
- Resolution: 19567.8792409999
- Scale: 7.3957190948944E7
-
Level ID: 4
[ Start Tile, End Tile ]
- Resolution: 9783.93962049996
- Scale: 3.6978595474472E7
-
Level ID: 5
[ Start Tile, End Tile ]
- Resolution: 4891.96981024998
- Scale: 1.8489297737236E7
- Format: MIXED
- Compression Quality: 75.0
- Origin: X: -2.0037508342787E7
Y: 2.0037508342787E7
- Spatial Reference: 102100
(3857)
LatestVCSWkid(0)
Storage Info:
- Storage Format: esriMapCacheStorageModeCompactV2
- Packet Size: 128
Initial Extent:
XMin: -1.388553450190265E7
YMin: 4846405.932634035
XMax: -1.371235336843329E7
YMax: 5101622.161754188
Spatial Reference: 102100
(0)
LatestVCSWkid(0)
Full Extent:
XMin: -1.385469121709141E7
YMin: 4855190.482444177
XMax: -1.374232863055214E7
YMax: 5093035.075251622
Spatial Reference: 102100
(0)
LatestVCSWkid(0)
Units: esriMeters
Supported Image Format Types: PNG32,PNG24,PNG,JPG,DIB,TIFF,EMF,PS,PDF,GIF,SVG,SVGZ,BMP
Document Info:
Title: Untitled.aprx
Author:
Comments: Planet Team (2023). Planet Application Program Interface: In Space for Life on Earth. San Francisco, CA. https://api.planet.com.
Subject: Planet Mosaic 3/2023 Tiles
Category:
Keywords: Humboldt County Web GIS Planning Building
AntialiasingMode: Fast
TextAntialiasingMode: Force
Supports Dynamic Layers: true
MaxRecordCount: 2000
MaxImageHeight: 4096
MaxImageWidth: 4096
Supported Query Formats: JSON, geoJSON, PBF
Supports Query Data Elements: true
Min Scale: 1155581.108577
Max Scale: 1128.497176
Supports Datum Transformation: true
Child Resources:
Info
Dynamic Layer
Supported Operations:
Export Map
Identify
QueryLegends
QueryDomains
Find
Return Updates
Generate KML