View In:
ArcGIS JavaScript
ArcGIS Online Map Viewer
ArcGIS Earth
ArcMap
ArcGIS Pro
View Footprint In:
ArcGIS Online Map Viewer
Service Description: This LiDAR dataset was created for the City of Eureka, California covering approximately 105 square miles of the city and its environs. The origin data was collected on Septemer 24th, 2019 using a Leica Hyperion LiDAR mapping unit and associated ground control was collected by a California Certified PLS. All data was acquired and processed in California Zone 1 State Plane, NAD83(2011), NAVD88 in US Survey Feet. Datasets included 12 ppsm Bare Earth Classified LAS, 1-Meter DSM and a 1-Foot Interval Contour Extraction.
Map Name: Humboldt_Bay_DEM
Legend
All Layers and Tables
Dynamic Legend
Dynamic All Layers
Layers:
Description: This LiDAR dataset was created for the City of Eureka, California covering approximately 105 square miles of the city and its environs. The origin data was collected on Septemer 24th, 2019 using a Leica Hyperion LiDAR mapping unit and associated ground control was collected by a California Certified PLS. All data was acquired and processed in California Zone 1 State Plane, NAD83(2011), NAVD88 in US Survey Feet. Datasets included 12 ppsm Bare Earth Classified LAS, 1-Meter DSM and a 1-Foot Interval Contour Extraction.
Service Item Id: 62a99ff180ad48888e4d6de88a06b989
Copyright Text: City of Eureka by Access Geographic, LLC, Tempe, Arizona.
Spatial Reference:
102100
(3857)
LatestVCSWkid(0)
Single Fused Map Cache: true
Tile Info:
- Height: 256.0
- Width: 256.0
- DPI: 96.0
-
Levels of Detail: 20
-
Level ID: 1
[ Start Tile, End Tile ]
- Resolution: 78271.5169639999
- Scale: 2.95828763795777E8
-
Level ID: 2
[ Start Tile, End Tile ]
- Resolution: 39135.7584820001
- Scale: 1.47914381897889E8
-
Level ID: 3
[ Start Tile, End Tile ]
- Resolution: 19567.8792409999
- Scale: 7.3957190948944E7
-
Level ID: 4
[ Start Tile, End Tile ]
- Resolution: 9783.93962049996
- Scale: 3.6978595474472E7
-
Level ID: 5
[ Start Tile, End Tile ]
- Resolution: 4891.96981024998
- Scale: 1.8489297737236E7
- Format: MIXED
- Compression Quality: 75.0
- Origin: X: -2.0037508342787E7
Y: 2.0037508342787E7
- Spatial Reference: 102100
(3857)
LatestVCSWkid(0)
Storage Info:
- Storage Format: esriMapCacheStorageModeCompactV2
- Packet Size: 128
Initial Extent:
XMin: -1.3872182409154335E7
YMin: 4960736.783012304
XMax: -1.3770039967366291E7
YMax: 5010246.297710892
Spatial Reference: 102100
(3857)
LatestVCSWkid(0)
Full Extent:
XMin: -1.3835606151549073E7
YMin: 4964566.740488194
XMax: -1.3806444598769343E7
YMax: 5006636.589442626
Spatial Reference: 102100
(3857)
LatestVCSWkid(0)
Units: esriMeters
Supported Image Format Types: PNG32,PNG24,PNG,JPG,DIB,TIFF,EMF,PS,PDF,GIF,SVG,SVGZ,BMP
Document Info:
Title: Humboldt Bay DEM (LiDAR)
Author:
Comments: This LiDAR dataset was created for the City of Eureka, California covering approximately 105 square miles of the city and its environs. The origin data was collected on Septemer 24th, 2019 using a Leica Hyperion LiDAR mapping unit and associated ground control was collected by a California Certified PLS. All data was acquired and processed in California Zone 1 State Plane, NAD83(2011), NAVD88 in US Survey Feet. Datasets included 12 ppsm Bare Earth Classified LAS, 1-Meter DSM and a 1-Foot Interval Contour Extraction.
Subject: Humboldt Bay LiDAR
Category:
Keywords: Humboldt County Web GIS Planning Building
AntialiasingMode: Fast
TextAntialiasingMode: Force
Supports Dynamic Layers: true
MaxRecordCount: 2000
MaxImageHeight: 4096
MaxImageWidth: 4096
Supported Query Formats: JSON, geoJSON, PBF
Supports Query Data Elements: true
Min Scale: 144447.638572
Max Scale: 1128.497176
Supports Datum Transformation: true
Child Resources:
Info
Dynamic Layer
Supported Operations:
Export Map
Identify
QueryLegends
QueryDomains
Find
Return Updates
Generate KML